BEGIN:VCALENDAR
VERSION:2.0
PRODID:-//SVP Kreispartei Rorschach //NONSGML Events //EN
CALSCALE:GREGORIAN
X-WR-CALNAME:SVP Kreispartei Rorschach
BEGIN:VEVENT
CREATED:20260422T080012Z
UID:1406
DTEND:20260513T220000
DTSTART:20260513T190000
DTSTAMP:20260423T145530Z
LOCATION:Thurpark\, Volkshausstrasse 23\, 9630 Wattwil
DESCRIPTION:
SUMMARY:32. Churfirstentagung
ORGANIZER:Kantonalpartei SVP SG
URL;VALUE=URI:https://www.svp-rorschach.ch/termine/32-churfirstentagung/
TRANSP:OPAQUE
END:VEVENT
END:VCALENDAR
